BEGIN:VCALENDAR
VERSION:2.0
PRODID:-//E.O. Wilson Biodiversity Foundation - ECPv6.15.20//NONSGML v1.0//EN
CALSCALE:GREGORIAN
METHOD:PUBLISH
X-WR-CALNAME:E.O. Wilson Biodiversity Foundation
X-ORIGINAL-URL:https://eow.stratacomm.agency
X-WR-CALDESC:Events for E.O. Wilson Biodiversity Foundation
REFRESH-INTERVAL;VALUE=DURATION:PT1H
X-Robots-Tag:noindex
X-PUBLISHED-TTL:PT1H
BEGIN:VTIMEZONE
TZID:UTC
BEGIN:STANDARD
TZOFFSETFROM:+0000
TZOFFSETTO:+0000
TZNAME:UTC
DTSTART:20220101T000000
END:STANDARD
END:VTIMEZONE
BEGIN:VEVENT
DTSTART;TZID=UTC:20230425T173000
DTEND;TZID=UTC:20230425T183000
DTSTAMP:20260422T110506
CREATED:20230413T135147Z
LAST-MODIFIED:20230504T183944Z
UID:4066-1682443800-1682447400@eow.stratacomm.agency
SUMMARY:Protecting Half of Earth for All Life with Dr. Dennis Liu
DESCRIPTION:Join Northeast Wilderness Trust virtually for a talk with special guest Dennis Liu\, PhD; watch from the comfort of your own home and participate in a Q&A discussion. \nThe goal for global conservation is Half\, inspired by E.O. Wilson’s call to protect half of our precious planet for the rest of nature. Although the “America the Beautiful” campaign\, the US implementation of 30 x 30\, is a good start\, it will not be enough to reverse the current extinction crisis and bring humanity into the safe zone. At this time\, the US currently has about 15% of its land under formal protection for biodiversity\, which matches the global percentage. The Half-Earth Project’s goal of 50% is not reachable in the US through state and federal action alone. It must include conservation by non-profits\, NGOs\, and individuals—including the forever-wild lands Northeast Wilderness Trust protects. Half-Earth’s goal is to leave no species behind. Dennis Liu\, PhD will feature stories of charismatic creatures like hummingbirds and dragonflies\, and discuss how protecting one species often benefits others. He’ll also talk about what each of us can do as individuals and as communities to support all of the miraculous species we love and need.
URL:https://eow.stratacomm.agency/event/protecting-half-of-earth-for-all-life-with-dr-dennis-liu/
CATEGORIES:30x30,Half-Earth
ATTACH;FMTTYPE=image/png:https://eow.stratacomm.agency/wp-content/uploads/2023/04/Dennis-Liu_square.png
END:VEVENT
END:VCALENDAR